BEGIN:VCALENDAR
VERSION:2.0
PRODID:-//Ringelnatz-Warnemünde//NONSGML v1.0//EN
CALSCALE:GREGORIAN
METHOD:PUBLISH
X-WR-CALNAME:Ringelnatz-Warnemünde
X-ORIGINAL-URL:https://www.ringelnatz-warnemuende.de
X-WR-CALDESC:Events for Ringelnatz-Warnemünde
X-WR-TIMEZONE:Europe/Berlin
BEGIN:VEVENT
DTSTART;VALUE=DATE-TIME:20250412T193000
DTEND;VALUE=DATE-TIME:20250412T220059.000000
DTSTAMP:20260425T181002
CREATED:20250313T172243
LAST-MODIFIED:20250313T172243
UID:3769-1744486200-@https://www.ringelnatz-warnemuende.de
SUMMARY:Walther Martinez Trio
DESCRIPTION:A lo Cubano!    Mit einem Repertoire aus Salsa\, Timba\, Bachata und Latín Pop macht das „Walter Martínez Trio" die perfekte Stimmung für eine Noche Cubana.    Die Band garantiert Spaß und Unterhaltung für Tänzer und Zuschauer auf jeder Party.    Auf der Setliste stehen bekannte Songs sowie eigene Kompositionen - 100% Handmade!    Wir bringen ein Stück Kuba zu Euch!
LOCATION:Alexandrinenstr. 60, Warnemünde, Mecklenburg-Vorpommern, 18119, Deutschland
URL:https://www.ringelnatz-warnemuende.de/event/walther-martinez-trio/
END:VEVENT
END:VCALENDAR