BEGIN:VCALENDAR
VERSION:2.0
PRODID:-//Ringelnatz-Warnemünde//NONSGML v1.0//EN
CALSCALE:GREGORIAN
METHOD:PUBLISH
X-WR-CALNAME:Ringelnatz-Warnemünde
X-ORIGINAL-URL:https://www.ringelnatz-warnemuende.de
X-WR-CALDESC:Events for Ringelnatz-Warnemünde
X-WR-TIMEZONE:Europe/Berlin
BEGIN:VEVENT
DTSTART;VALUE=DATE-TIME:20251107T193000
DTEND;VALUE=DATE-TIME:20251107T220059.000000
DTSTAMP:20260421T160915
CREATED:20250408T203709
LAST-MODIFIED:20250408T203709
UID:3796-1762543800-@https://www.ringelnatz-warnemuende.de
SUMMARY:Thomas Putensen
DESCRIPTION:Schmetterling im Schnee - Wunschlieder und Balladen    Der Pianist\, Sänger und Komponist Thomas Putensen wird mit einer bemerkenswerten Mischung aus Klassik\, Pop\, Rock und heiter\, satirischen Gedichten zu hören sein.    Diesen recht unterschiedlichen Stilelementen entlockt er eine ungewöhnliche Konzertatmosphäre und überlässt die Tendenz des Abend’s gern der jeweiligen Stimmung und Laune des Publikums und seinen sich dazu herstellenden Eingebungen.  Putensen’s Lieder am Klavier erinnern ein wenig an Gilbert Becaut\, ohne dabei seinen eigenen Bestrebungen entgegen zu stehen. Sie mischen den Sound des Nordens mit Weltmusikalischen Akzenten und setzt mit dem einen oder anderen Evergreen von Holger Biege und Manfred Krug dem Abend ein paar sehr bereichernde Glanzpunkte. So wird das Konzert unter dem Motto: „Schmetterlinge im Schnee - Wunschlieder und Balladen“ eine fast untertriebene Umschreibung seiner künstlerischen Ambitionen und sicherlich zu einem besonderen Erlebnis.
LOCATION:Alexandrinenstr. 60, Warnemünde, Mecklenburg-Vorpommern, 18119, Deutschland
URL:https://www.ringelnatz-warnemuende.de/event/thomas-putensen/
END:VEVENT
END:VCALENDAR