BEGIN:VCALENDAR
VERSION:2.0
PRODID:-//Ringelnatz-Warnemünde//NONSGML v1.0//EN
CALSCALE:GREGORIAN
METHOD:PUBLISH
X-WR-CALNAME:Ringelnatz-Warnemünde
X-ORIGINAL-URL:https://www.ringelnatz-warnemuende.de
X-WR-CALDESC:Events for Ringelnatz-Warnemünde
X-WR-TIMEZONE:Europe/Berlin
BEGIN:VEVENT
DTSTART;VALUE=DATE-TIME:20251017T193000
DTEND;VALUE=DATE-TIME:20251017T220059.000000
DTSTAMP:20260421T172917
CREATED:20251014T104936
LAST-MODIFIED:20251014T104936
UID:3837-1760729400-@https://www.ringelnatz-warnemuende.de
SUMMARY:Sideburns 
DESCRIPTION:The Sideburns aus Rostock – das sind Lars\, Ivo und Dave. Eine Rockabillyband in klassischer Besetzung mit Kontrabass\, Leadgitarre und Rhythmusgitarre. Das Besondere: Kein Schlagzeug – das macht den originalen Sound der 50er aus\, wie von Elvis\, Johnny Cash &amp; Co.    Der Name „Sideburns“ ist amerikanischer Slang und bedeutet Koteletten (Backenbart). Das war neben der Haartolle das Markenzeichen von Elvis.    Diese absolut zeitlose Musik vereinte damals in den 50ern Rhythm &amp; Blues mit Country und Swing zu einem scharfen Mix\, der die Rock und Pop Musik von heute stark prägen sollte.
LOCATION:Alexandrinenstr. 60, Warnemünde, Mecklenburg-Vorpommern, 18119, Deutschland
URL:https://www.ringelnatz-warnemuende.de/event/sideburns/
END:VEVENT
END:VCALENDAR