BEGIN:VCALENDAR
VERSION:2.0
PRODID:-//Ringelnatz-Warnemünde//NONSGML v1.0//EN
CALSCALE:GREGORIAN
METHOD:PUBLISH
X-WR-CALNAME:Ringelnatz-Warnemünde
X-ORIGINAL-URL:https://www.ringelnatz-warnemuende.de
X-WR-CALDESC:Events for Ringelnatz-Warnemünde
X-WR-TIMEZONE:Europe/Berlin
BEGIN:VEVENT
DTSTART;VALUE=DATE-TIME:20260328T193000
DTEND;VALUE=DATE-TIME:20260328T220059.000000
DTSTAMP:20260422T082335
CREATED:20250409T095756
LAST-MODIFIED:20250409T095756
UID:3820-1774726200-@https://www.ringelnatz-warnemuende.de
SUMMARY:MTS  ... makaber, taktlos aber sauber
DESCRIPTION:50 Jahre - LP „Mut Tatendrang Schönheit  1976 wurde im Studentenklub „Kasseturm“ in Weimar die erste Langspielplatte des mobilen Liedkabaretts MTS „Mut Tatendrang Schönheit“  aufgenommen\, die aus drucktechnischen Gründen erst 1977 erscheinen konnte. Außerdem wird 2026 der Gründer\, Sänger und Texter Thomas Schmitt 75 und kehrt mit seinem langjährigen musikalischen Kompagnon Frank Sültemeyer auf die Bühnen zurück\, um diese beiden Jubiläen gemeinsam mit dem Publikum zu feiern! Neben Liedern besagter LP geben die Herren weitere Höhepunkte aus dem über fünfzigjährigen Schaffen von MTS zum Besten.  mehlen\, tschetten\, sörfen: www.gruppe-mts.de
LOCATION:Alexandrinenstr. 60, Warnemünde, Mecklenburg-Vorpommern, 18119, Deutschland
URL:https://www.ringelnatz-warnemuende.de/event/mts-makaber-taktlos-aber-sauber/
END:VEVENT
END:VCALENDAR