BEGIN:VCALENDAR
VERSION:2.0
PRODID:-//Ringelnatz-Warnemünde//NONSGML v1.0//EN
CALSCALE:GREGORIAN
METHOD:PUBLISH
X-WR-CALNAME:Ringelnatz-Warnemünde
X-ORIGINAL-URL:https://www.ringelnatz-warnemuende.de
X-WR-CALDESC:Events for Ringelnatz-Warnemünde
X-WR-TIMEZONE:Europe/Berlin
BEGIN:VEVENT
DTSTART;VALUE=DATE-TIME:20250920T193000
DTEND;VALUE=DATE-TIME:20250920T220059.000000
DTSTAMP:20260425T120416
CREATED:20250408T200311
LAST-MODIFIED:20250408T200311
UID:3787-1758396600-@https://www.ringelnatz-warnemuende.de
SUMMARY:Mathew James White & Tobias Panwitz
DESCRIPTION:Kiwi Dream Folk &amp; Deutsche Folkmusik  Eine musikalische Reise zwischen Neuseeland und Deutschland erwartet Sie am Samstag\, 20. September 2025 im Ringelnatz Warnemünde. Zwei außergewöhnliche Songwriter vereinen ihre Klänge in einem unvergesslichen Abend.    Mathew James White\, ein Neuseeländer mit Wahlheimat Deutschland\, verzaubert mit seinem "Kiwi Dream Folk" - einer Mischung aus eingängigen Melodien\, die an Künstler wie Jack Johnson und Vance Joy erinnern. Seine emotionalen Kompositionen\, die bereits auf Netflix und MTV zu hören waren\, erzählen Geschichten voller positiver Energie.    Tobias Panwitz\, Berliner Songwriter\, entführt mit seinen Folk-Reisen zwischen deutschen und englischen Songs. Beeinflusst von Americana-Legenden wie Neil Young und Tom Petty\, verbindet er Reiseerlebnisse und persönliche Momente in stimmungsvollen Balladen.    Mathews YouTube-Kanal https://www.youtube.com/@mathewjameswhite/videos    Tobias’ YouTube-Kanal: https://www.youtube.com/@tobiaspanwitzmusic/videos
LOCATION:Alexandrinenstr. 60, Warnemünde, Mecklenburg-Vorpommern, 18119, Deutschland
URL:https://www.ringelnatz-warnemuende.de/event/mathew-james-white-tobias-panwitz-2/
END:VEVENT
END:VCALENDAR