BEGIN:VCALENDAR
VERSION:2.0
PRODID:-//Ringelnatz-Warnemünde//NONSGML v1.0//EN
CALSCALE:GREGORIAN
METHOD:PUBLISH
X-WR-CALNAME:Ringelnatz-Warnemünde
X-ORIGINAL-URL:https://www.ringelnatz-warnemuende.de
X-WR-CALDESC:Events for Ringelnatz-Warnemünde
X-WR-TIMEZONE:Europe/Berlin
BEGIN:VEVENT
DTSTART;VALUE=DATE-TIME:20251108T190000
DTEND;VALUE=DATE-TIME:20251108T220059.000000
DTSTAMP:20260423T081011
CREATED:20250408T204127
LAST-MODIFIED:20250408T204127
UID:3798-1762628400-@https://www.ringelnatz-warnemuende.de
SUMMARY:Martinsgans
DESCRIPTION:am 08.11.2025 servieren wir traditionell unsere Martinsgans.    Freuen Sie sich auf einen unterhaltsamen Abend mit einem 4-Gänge-Menü.
LOCATION:Alexandrinenstr. 60, Warnemünde, Mecklenburg-Vorpommern, 18119, Deutschland
URL:https://www.ringelnatz-warnemuende.de/event/martinsgans/
END:VEVENT
END:VCALENDAR