BEGIN:VCALENDAR
VERSION:2.0
PRODID:-//Ringelnatz-Warnemünde//NONSGML v1.0//EN
CALSCALE:GREGORIAN
METHOD:PUBLISH
X-WR-CALNAME:Ringelnatz-Warnemünde
X-ORIGINAL-URL:https://www.ringelnatz-warnemuende.de
X-WR-CALDESC:Events for Ringelnatz-Warnemünde
X-WR-TIMEZONE:Europe/Berlin
BEGIN:VEVENT
DTSTART;VALUE=DATE-TIME:20250926T193000
DTEND;VALUE=DATE-TIME:20250926T220059.000000
DTSTAMP:20260425T105611
CREATED:20250408T200928
LAST-MODIFIED:20250925T184616
UID:3789-1758915000-@https://www.ringelnatz-warnemuende.de
SUMMARY:Jarése
DESCRIPTION:FÄLLT LEIDER AUS !!!    Jarése ist Musik\, die das Herz berührt. In einer Melange aus Pop\, Soul und dem Spirit des Blues\, gepaart mit eingängigen Melodien\, charmanter Stimme und tiefgründigen Texten\, ist Jarése Akustikpop\, zeitlos und zugleich modern. In ihrem aktuellen Album „Eleonore“ finden sich Klänge mitreißender Popmusik\, die von der Sängerin\, Gitarristin und Violinistin Juliane Liebing\, dem Pianisten Albrecht Schumann (Trojka) und Gitarristen Richard Fuhrmann (FUHRMANN) harmonisch verschmelzend dargeboten werden.    In unserem aktuellen Tourenprogramm ELEONORE bringen wir kraftvolle\, englischsprachige Songs mit tiefgründigen Texten\, eingängigen Melodien und charmanten Arrangements auf die Bühne. JARÉSE erzeugt eine zugleich intime als auch energiegeladene Konzertatmosphäre.
LOCATION:Alexandrinenstr. 60, Warnemünde, Mecklenburg-Vorpommern, 18119, Deutschland
URL:https://www.ringelnatz-warnemuende.de/event/jarese/
END:VEVENT
END:VCALENDAR