BEGIN:VCALENDAR
VERSION:2.0
PRODID:-//Ringelnatz-Warnemünde//NONSGML v1.0//EN
CALSCALE:GREGORIAN
METHOD:PUBLISH
X-WR-CALNAME:Ringelnatz-Warnemünde
X-ORIGINAL-URL:https://www.ringelnatz-warnemuende.de
X-WR-CALDESC:Events for Ringelnatz-Warnemünde
X-WR-TIMEZONE:Europe/Berlin
BEGIN:VEVENT
DTSTART;VALUE=DATE-TIME:20250516T193000
DTEND;VALUE=DATE-TIME:20250516T220059.000000
DTSTAMP:20260425T164314
CREATED:20250313T172826
LAST-MODIFIED:20250313T172826
UID:3771-1747423800-@https://www.ringelnatz-warnemuende.de
SUMMARY:Harro Hübner - Doppeljubiläumstour 2025
DESCRIPTION:„60 Jahre im Leben – 40 Jahre auf den Bühnen der Welt“    "Balladen\, Blues &amp; neue leise Lieder..."\,    so nennt der Mecklenburger Musiker sein: „musikalisch-literarisches Soloprogramm“.    In diesem erinnert er sich an seine "musikalischen und zwischenmenschlichen Lehrjahre“ bei und mit der Gruppe "Keimzeit".    Hier erhielt er 1985 seine erste Konzert-Gage. 40 Jahre später geht er nun\, mit einem neuen Album\, auf Jubiläumstour.    Hübner war und ist ein Freigeist\, ein Verfechter von Freiheit und Selbstbestimmung.    1965 im Ostseebad Kühlungsborn geboren\, aufgewachsen und sozialisiert in der ehemaligen Deutschen Diktatorischen Republik\, lernte er schnell die Grenzen der Möglichkeiten für ein selbstbestimmtes und freiheitliches Leben kennen und geriet in stetigen Konflikt mit dem herrschenden Regime.    Seine Konzerte sind intensiv\, emotional\, berührend\, mitreißend und: auch immer mit einem Quäntchen Selbstironie und Humor versehen.    mehr Informationen unter: www.harrohuebner.de
LOCATION:Alexandrinenstr. 60, Warnemünde, Mecklenburg-Vorpommern, 18119, Deutschland
URL:https://www.ringelnatz-warnemuende.de/event/harro-hubner-doppeljubilaumstour-2025/
END:VEVENT
END:VCALENDAR