BEGIN:VCALENDAR
VERSION:2.0
PRODID:-//Ringelnatz-Warnemünde//NONSGML v1.0//EN
CALSCALE:GREGORIAN
METHOD:PUBLISH
X-WR-CALNAME:Ringelnatz-Warnemünde
X-ORIGINAL-URL:https://www.ringelnatz-warnemuende.de
X-WR-CALDESC:Events for Ringelnatz-Warnemünde
X-WR-TIMEZONE:Europe/Berlin
BEGIN:VEVENT
DTSTART;VALUE=DATE-TIME:20251010T193000
DTEND;VALUE=DATE-TIME:20251010T220059.000000
DTSTAMP:20260421T184906
CREATED:20250408T202430
LAST-MODIFIED:20250408T202430
UID:3793-1760124600-@https://www.ringelnatz-warnemuende.de
SUMMARY:Eventlesung - Der Kreuzfahrtsüchtige
DESCRIPTION:Eine unterhaltsame Lesung zum Buch "Der Kreuzfahrtsüchtige" von und mit Jörg Hinz.    Mit emotionalen Videosequenzen und Live Entertainment.
LOCATION:Alexandrinenstr. 60, Warnemünde, Mecklenburg-Vorpommern, 18119, Deutschland
URL:https://www.ringelnatz-warnemuende.de/event/eventlesung-der-kreuzfahrtsuchtige/
END:VEVENT
END:VCALENDAR