BEGIN:VCALENDAR
VERSION:2.0
PRODID:-//Ringelnatz-Warnemünde//NONSGML v1.0//EN
CALSCALE:GREGORIAN
METHOD:PUBLISH
X-WR-CALNAME:Ringelnatz-Warnemünde
X-ORIGINAL-URL:https://www.ringelnatz-warnemuende.de
X-WR-CALDESC:Events for Ringelnatz-Warnemünde
X-WR-TIMEZONE:Europe/Berlin
BEGIN:VEVENT
DTSTART;VALUE=DATE-TIME:20251114T190000
DTEND;VALUE=DATE-TIME:20251114T220059.000000
DTSTAMP:20260422T094307
CREATED:20250408T204643
LAST-MODIFIED:20250408T204643
UID:3800-1763146800-@https://www.ringelnatz-warnemuende.de
SUMMARY:enVivo
DESCRIPTION:enVivo – Leidenschaftlicher Acoustic-Pop aus Dresden    Die Dresdner BandenVivo verbindet gefühlvollen Acoustic-Pop mit Einflüssen aus Latin\, Jazz und Folk. Mit ihrer einzigartigen Mischung aus englischen und spanischen Texten\, unverwechselbarer Stimme und vielschichtigen Arrangements begeistert die Band ihr Publikum auf großen und kleinen Bühnen.    Ob intime Clubatmosphäre oder Festivalbühne – enVivo entführt ihr Publikum auf eine musikalische Reise voller Emotionen und Energie. Authentisch\, mitreißend und stets mit viel Herzblut präsentiert die Band eigene Songs sowie ausgewählte Covers in ihrem ganz eigenen Stil. Auf der derzeitigen Tour werden die Songs in intimer Duobesetzung präsentiert.    &nbsp;    Mehr Informationen und aktuelle Konzerttermine unter: www.envivo-music.com
LOCATION:Alexandrinenstr. 60, Warnemünde, Mecklenburg-Vorpommern, 18119, Deutschland
URL:https://www.ringelnatz-warnemuende.de/event/envivo/
END:VEVENT
END:VCALENDAR