BEGIN:VCALENDAR
VERSION:2.0
PRODID:-//Ringelnatz-Warnemünde//NONSGML v1.0//EN
CALSCALE:GREGORIAN
METHOD:PUBLISH
X-WR-CALNAME:Ringelnatz-Warnemünde
X-ORIGINAL-URL:https://www.ringelnatz-warnemuende.de
X-WR-CALDESC:Events for Ringelnatz-Warnemünde
X-WR-TIMEZONE:Europe/Berlin
BEGIN:VEVENT
DTSTART;VALUE=DATE-TIME:20250620T193000
DTEND;VALUE=DATE-TIME:20250620T220059.000000
DTSTAMP:20260425T143439
CREATED:20250408T195201
LAST-MODIFIED:20250408T195201
UID:3782-1750447800-@https://www.ringelnatz-warnemuende.de
SUMMARY:Dr. Blues & friends
DESCRIPTION:Die musikalische Laufbahn des Mediziners Dr. Udo Franke begann schon sehr früh. Nach einer klassischen Klavierausbildung spielte er als 15-jähriger in einer der heute noch beliebtesten Country- Bands im Erzgebirge. Während seines Studiums in Timisoara/ Rumänien begleitete er eine der bekanntesten rumänischen Rockbands: Pro Musica. Nach Deutschland zurückgekehrt verschrieb er sich dem Blues.    Dr. Blues &amp; friends gehören nun schon seit über 20 Jahren zum festen Bestandteil der Rostocker Musikszene. Mit viel Geschick bringt der Rostocker Arzt und Musiker immer wieder eine interessante Mischung von Musikern auf die Bühne\, die zusammen jammen und musizieren. Die Show wird oft durch Gäste bereichert\, die gern mit ins musikalische Geschehen einsteigen.    Das Repertoire der Band reicht vom Folk- Blues über den groovigen Electric - Blues bis hin zu Boogie - Woogie. Aber auch der ruhige Slow- Blues findet hier seinen Platz.    In charmanter Weise versteht es Dr. Blues\, seine Zuhörer zum Mitsingen und sogar zum Tanzen zu motivieren\, so dass bei den Konzerten immer eine ganz besondere Stimmung aufkommt.    Neben Udo Franke (voc\, piano\, harp) spielen als „friends“ mit: Wolfgang Schmiedt (guitar)\, Olaf Scheffler (drums)\, Christian Kuzio (bass)\, Alexander Paschen und Gunnar Stigge (trombone).    Youtube:     Dr. Blues &amp; Friends im „Ursprung“ Rostock    https://www.youtube.com/watch?v=EP5ur4Cx9NQ    Dr. Blues &amp; friends und special guest mit violin    https://www.youtube.com/watch?v=VpR9BRWWn5M    Dr Blues &amp; Friends in der „Sackgasse“ Schwaan    https://www.youtube.com/watch?v=DEjy2yt4GdQ
LOCATION:Alexandrinenstr. 60, Warnemünde, Mecklenburg-Vorpommern, 18119, Deutschland
URL:https://www.ringelnatz-warnemuende.de/event/dr-blues-friends/
END:VEVENT
END:VCALENDAR