BEGIN:VCALENDAR
VERSION:2.0
PRODID:-//Ringelnatz-Warnemünde//NONSGML v1.0//EN
CALSCALE:GREGORIAN
METHOD:PUBLISH
X-WR-CALNAME:Ringelnatz-Warnemünde
X-ORIGINAL-URL:https://www.ringelnatz-warnemuende.de
X-WR-CALDESC:Events for Ringelnatz-Warnemünde
X-WR-TIMEZONE:Europe/Berlin
BEGIN:VEVENT
DTSTART;VALUE=DATE-TIME:20250801T193000
DTEND;VALUE=DATE-TIME:20250801T220059.000000
DTSTAMP:20260425T131513
CREATED:20250408T195752
LAST-MODIFIED:20250408T195752
UID:3784-1754076600-@https://www.ringelnatz-warnemuende.de
SUMMARY:Die deutsche Sprache ist ein Witz
DESCRIPTION:Mr. Speedfinger &amp; Ulf Annel vom Kabarett „DIE ARCHE“/Erfurt     Manche Leute nehmen sie nur ungern in den Mund\, unsere Sprache. Aber die steckt voller amüsanter Überraschungen.    Der Erfurter Kabarettist Ulf Annel meint\, die deutsche Sprache sei ein Witz. Schon über einzelne Buchstaben könne man sich ausschütten vor Lachen.    Der „vollinhaltlich“ unterhaltsame Abend entführt auf die Wortspielwiese\, wo ein einziger Buchstabe die Welt verändern kann. Schon so manches Publikum wurde verführt\, wieder Freude an der Muttersprache unseres Vaterlands zu haben.    Mit von der Partie - oder heißt es Party? - ist der Pianist Mr. Speedfinger\, Jürgen „Atze“ Adlung\, ein Weltrekordler an den Tasten.    &nbsp;
LOCATION:Alexandrinenstr. 60, Warnemünde, Mecklenburg-Vorpommern, 18119, Deutschland
URL:https://www.ringelnatz-warnemuende.de/event/die-deutsche-sprache-ist-ein-witz/
END:VEVENT
END:VCALENDAR