BEGIN:VCALENDAR
VERSION:2.0
PRODID:-//Ringelnatz-Warnemünde//NONSGML v1.0//EN
CALSCALE:GREGORIAN
METHOD:PUBLISH
X-WR-CALNAME:Ringelnatz-Warnemünde
X-ORIGINAL-URL:https://www.ringelnatz-warnemuende.de
X-WR-CALDESC:Events for Ringelnatz-Warnemünde
X-WR-TIMEZONE:Europe/Berlin
BEGIN:VEVENT
DTSTART;VALUE=DATE-TIME:20250517T190000
DTEND;VALUE=DATE-TIME:20250517T220059.000000
DTSTAMP:20260425T154330
CREATED:20250408T194555
LAST-MODIFIED:20250408T194555
UID:3780-1747508400-@https://www.ringelnatz-warnemuende.de
SUMMARY:Das Ringelnatz kocht SPARGEL
DESCRIPTION:am 17.05.2025 servieren wir traditionell unser Spargelessen    Freuen Sie sich auf einen unterhaltsamen Abend mit einem 3-Gänge-Menü rund um den Spargel
LOCATION:Alexandrinenstr. 60, Warnemünde, Mecklenburg-Vorpommern, 18119, Deutschland
URL:https://www.ringelnatz-warnemuende.de/event/das-ringelnatz-kocht-spargel/
END:VEVENT
END:VCALENDAR