BEGIN:VCALENDAR
VERSION:2.0
PRODID:-//Ringelnatz-Warnemünde//NONSGML v1.0//EN
CALSCALE:GREGORIAN
METHOD:PUBLISH
X-WR-CALNAME:Ringelnatz-Warnemünde
X-ORIGINAL-URL:https://www.ringelnatz-warnemuende.de
X-WR-CALDESC:Events for Ringelnatz-Warnemünde
X-WR-TIMEZONE:Europe/Berlin
BEGIN:VEVENT
DTSTART;VALUE=DATE-TIME:20241204T183000
DTEND;VALUE=DATE-TIME:20241204T213059.000000
DTSTAMP:20260426T040321
CREATED:20240827T110415
LAST-MODIFIED:20240827T110415
UID:3733-1733337000-@https://www.ringelnatz-warnemuende.de
SUMMARY:ArtNight - Rote Boote
DESCRIPTION:Male dein Kunstwerk!    Angeleitet von erfahrenen Künstlern malst du Schritt für Schritt dein Meisterwerk und genießt das Gefühl kreativ zu sein.    Für eine gelungene ArtNight sind keinerlei Vorkenntnisse notwendig.    Anmeldung ausschließlich unter: https://artnight.com/rostock
LOCATION:Alexandrinenstr. 60, Warnemünde, Mecklenburg-Vorpommern, 18119, Deutschland
URL:https://www.ringelnatz-warnemuende.de/event/artnight-rote-boote/
END:VEVENT
END:VCALENDAR